BEGIN:VCALENDAR
VERSION:2.0
PRODID:-//José Palomo - ECPv6.15.14//NONSGML v1.0//EN
CALSCALE:GREGORIAN
METHOD:PUBLISH
X-ORIGINAL-URL:https://metodoyuenjosepalomo.com
X-WR-CALDESC:Eventos para José Palomo
REFRESH-INTERVAL;VALUE=DURATION:PT1H
X-Robots-Tag:noindex
X-PUBLISHED-TTL:PT1H
BEGIN:VTIMEZONE
TZID:America/Chicago
BEGIN:DAYLIGHT
TZOFFSETFROM:-0600
TZOFFSETTO:-0500
TZNAME:CDT
DTSTART:20230312T080000
END:DAYLIGHT
BEGIN:STANDARD
TZOFFSETFROM:-0500
TZOFFSETTO:-0600
TZNAME:CST
DTSTART:20231105T070000
END:STANDARD
BEGIN:DAYLIGHT
TZOFFSETFROM:-0600
TZOFFSETTO:-0500
TZNAME:CDT
DTSTART:20240310T080000
END:DAYLIGHT
BEGIN:STANDARD
TZOFFSETFROM:-0500
TZOFFSETTO:-0600
TZNAME:CST
DTSTART:20241103T070000
END:STANDARD
BEGIN:DAYLIGHT
TZOFFSETFROM:-0600
TZOFFSETTO:-0500
TZNAME:CDT
DTSTART:20250309T080000
END:DAYLIGHT
BEGIN:STANDARD
TZOFFSETFROM:-0500
TZOFFSETTO:-0600
TZNAME:CST
DTSTART:20251102T070000
END:STANDARD
END:VTIMEZONE
BEGIN:VEVENT
DTSTART;TZID=America/Chicago:20240401T200000
DTEND;TZID=America/Chicago:20240403T223000
DTSTAMP:20260419T124511
CREATED:20240207T004951Z
LAST-MODIFIED:20240301T123056Z
UID:7876-1712001600-1712183400@metodoyuenjosepalomo.com
SUMMARY:Método Yuen - Nivel I
DESCRIPTION:CUÁNDO: \n\n\n\n\n\n\n\nEn este conjunto de módulos 1 2 y 3 se aprenden las bases de Método\, así como la instrucción completa para realizar fortalecimientos y mejorar o solucionar problemas del orden físico\, mental y emocional\, tales como; Dolores de todo tipo\, enfermedades cardiovasculares\, problemas de columna\, diabetes\, quistes\, miomas y mucho mas. \n\n\n\nEn el ambiente mental a reprogramar el pensamiento\, eliminar creencias limitantes\, eliminación de traumas\, en lo emocional: Estrés\, Depresión\, Ansiedad\, Miedo\, Enojo y más te volverás un terapeuta capacitado para tratar a las personas y mejorarlas en todos los aspectos. \n\n\n\n\n\n\n\nContáctanos
URL:https://metodoyuenjosepalomo.com/curso-taller-terapia/metodo-yuen-nivel-i-2/
CATEGORIES:Cursos
ATTACH;FMTTYPE=image/jpeg:https://metodoyuenjosepalomo.com/wp-content/uploads/2024/02/Metodo-Yuen-Nivel-IIIyIII.jpeg
END:VEVENT
BEGIN:VEVENT
DTSTART;TZID=America/Chicago:20240408T200000
DTEND;TZID=America/Chicago:20240410T223000
DTSTAMP:20260419T124511
CREATED:20240207T005108Z
LAST-MODIFIED:20240301T123056Z
UID:7878-1712606400-1712788200@metodoyuenjosepalomo.com
SUMMARY:Método Yuen - Nivel II
DESCRIPTION:CUÁNDO: \n\n\n\n\n\n\n\nEn este conjunto de módulos 1 2 y 3 se aprenden las bases de Método\, así como la instrucción completa para realizar fortalecimientos y mejorar o solucionar problemas del orden físico\, mental y emocional\, tales como; Dolores de todo tipo\, enfermedades cardiovasculares\, problemas de columna\, diabetes\, quistes\, miomas y mucho mas. \n\n\n\nEn el ambiente mental a reprogramar el pensamiento\, eliminar creencias limitantes\, eliminación de traumas\, en lo emocional: Estrés\, Depresión\, Ansiedad\, Miedo\, Enojo y más te volverás un terapeuta capacitado para tratar a las personas y mejorarlas en todos los aspectos. \n\n\n\n\n\n\n\n\nContáctanos
URL:https://metodoyuenjosepalomo.com/curso-taller-terapia/metodo-yuen-nivel-ii-2/
CATEGORIES:Cursos
ATTACH;FMTTYPE=image/jpeg:https://metodoyuenjosepalomo.com/wp-content/uploads/2024/02/Metodo-Yuen-Nivel-IIIyIII.jpeg
END:VEVENT
BEGIN:VEVENT
DTSTART;TZID=America/Chicago:20240415T200000
DTEND;TZID=America/Chicago:20240417T223000
DTSTAMP:20260419T124511
CREATED:20240207T005558Z
LAST-MODIFIED:20240424T113056Z
UID:7881-1713211200-1713393000@metodoyuenjosepalomo.com
SUMMARY:Método Yuen - Nivel III
DESCRIPTION:CUÁNDO: \n\n\n\n\n\n\n	\n		\n			mayo 4		\n\n					\n				–			\n			\n				12:00			\n		\n									\n					 – 				\n			\n							\n					mayo 6				\n\n									\n						–					\n					\n						14:30					\n				\n			\n							UTC-6\n						 \n\n\n\n\n\n\n\n\n\n\nEn este conjunto de módulos 1 2 y 3 se aprenden las bases de Método\, así como la instrucción completa para realizar fortalecimientos y mejorar o solucionar problemas del orden físico\, mental y emocional\, tales como; Dolores de todo tipo\, enfermedades cardiovasculares\, problemas de columna\, diabetes\, quistes\, miomas y mucho mas. \n\n\n\n\nEn el ambiente mental a reprogramar el pensamiento\, eliminar creencias limitantes\, eliminación de traumas\, en lo emocional: Estrés\, Depresión\, Ansiedad\, Miedo\, Enojo y más te volverás un terapeuta capacitado para tratar a las personas y mejorarlas en todos los aspectos. \n\n\n\n\n\n\n\n\nContáctanos
URL:https://metodoyuenjosepalomo.com/curso-taller-terapia/metodo-yuen-nivel-iii-2/
CATEGORIES:Cursos
ATTACH;FMTTYPE=image/jpeg:https://metodoyuenjosepalomo.com/wp-content/uploads/2024/02/Metodo-Yuen-Nivel-IIIyIII.jpeg
END:VEVENT
BEGIN:VEVENT
DTSTART;TZID=America/Chicago:20240422T200000
DTEND;TZID=America/Chicago:20240424T220000
DTSTAMP:20260419T124511
CREATED:20240410T234315Z
LAST-MODIFIED:20240424T113032Z
UID:8322-1713816000-1713996000@metodoyuenjosepalomo.com
SUMMARY:Energía Pránica Nivel I
DESCRIPTION:CUÁNDO: \n\n\n\n\n\n\n\n\n\n\n\n\n\n\nContinuación de la Energía de colores\, explorando las emociones de cada chakra y su estructura interna. Cortando vínculos negativos\, obteniendo energización y protección mental\, por ende la salud física. \n\n\n\n\n\nContáctanos
URL:https://metodoyuenjosepalomo.com/curso-taller-terapia/energia-pranica-nivel-i/
CATEGORIES:Cursos
ATTACH;FMTTYPE=image/jpeg:https://metodoyuenjosepalomo.com/wp-content/uploads/2024/04/5BE02163-55D4-47DE-A2D2-B7514AEE6E8E-1.jpeg
END:VEVENT
BEGIN:VEVENT
DTSTART;TZID=America/Chicago:20240429T190000
DTEND;TZID=America/Chicago:20240501T210000
DTSTAMP:20260419T124511
CREATED:20240411T001429Z
LAST-MODIFIED:20240424T113022Z
UID:8362-1714417200-1714597200@metodoyuenjosepalomo.com
SUMMARY:Energía Pránica Nivel II
DESCRIPTION:CUÁNDO: \n\n\n\n\n\n\n\n\n\n\n\n\n\n\nContinuación de la Energía de colores\, explorando las emociones de cada chakra y su estructura interna. Cortando vínculos negativos\, obteniendo energización y protección mental\, por ende la salud física. \n\n\n\n\n\nContáctanos
URL:https://metodoyuenjosepalomo.com/curso-taller-terapia/energia-pranica-nivel-ii/
CATEGORIES:Cursos,MasterClass
ATTACH;FMTTYPE=image/jpeg:https://metodoyuenjosepalomo.com/wp-content/uploads/2024/04/C703C2ED-8918-469F-B6FB-2AF6B8424161.jpeg
END:VEVENT
END:VCALENDAR