BEGIN:VCALENDAR
VERSION:2.0
PRODID:-//José Palomo - ECPv6.15.14//NONSGML v1.0//EN
CALSCALE:GREGORIAN
METHOD:PUBLISH
X-WR-CALNAME:José Palomo
X-ORIGINAL-URL:https://metodoyuenjosepalomo.com
X-WR-CALDESC:Eventos para José Palomo
REFRESH-INTERVAL;VALUE=DURATION:PT1H
X-Robots-Tag:noindex
X-PUBLISHED-TTL:PT1H
BEGIN:VTIMEZONE
TZID:America/Chicago
BEGIN:DAYLIGHT
TZOFFSETFROM:-0600
TZOFFSETTO:-0500
TZNAME:CDT
DTSTART:20230312T080000
END:DAYLIGHT
BEGIN:STANDARD
TZOFFSETFROM:-0500
TZOFFSETTO:-0600
TZNAME:CST
DTSTART:20231105T070000
END:STANDARD
BEGIN:DAYLIGHT
TZOFFSETFROM:-0600
TZOFFSETTO:-0500
TZNAME:CDT
DTSTART:20240310T080000
END:DAYLIGHT
BEGIN:STANDARD
TZOFFSETFROM:-0500
TZOFFSETTO:-0600
TZNAME:CST
DTSTART:20241103T070000
END:STANDARD
BEGIN:DAYLIGHT
TZOFFSETFROM:-0600
TZOFFSETTO:-0500
TZNAME:CDT
DTSTART:20250309T080000
END:DAYLIGHT
BEGIN:STANDARD
TZOFFSETFROM:-0500
TZOFFSETTO:-0600
TZNAME:CST
DTSTART:20251102T070000
END:STANDARD
END:VTIMEZONE
BEGIN:VEVENT
DTSTART;TZID=America/Chicago:20240304T000000
DTEND;TZID=America/Chicago:20240304T000100
DTSTAMP:20260417T173907
CREATED:20240207T000425Z
LAST-MODIFIED:20240301T123056Z
UID:7862-1709510400-1709510460@metodoyuenjosepalomo.com
SUMMARY:MasterClass Diabetes
DESCRIPTION:
URL:https://metodoyuenjosepalomo.com/curso-taller-terapia/masterclass-diabetes/
CATEGORIES:MasterClass
END:VEVENT
BEGIN:VEVENT
DTSTART;TZID=America/Chicago:20240305T200000
DTEND;TZID=America/Chicago:20240305T220000
DTSTAMP:20260417T173907
CREATED:20240207T000703Z
LAST-MODIFIED:20240301T123056Z
UID:7864-1709668800-1709676000@metodoyuenjosepalomo.com
SUMMARY:Meridianos Energéticos
DESCRIPTION:CUÁNDO: \n\n\n\n\n\n\n\n\n\n\n\n\n\n\n\n\n\n\n\n\n\n\nContáctanos
URL:https://metodoyuenjosepalomo.com/curso-taller-terapia/meridianos-energeticos/
CATEGORIES:MasterClass
ATTACH;FMTTYPE=image/jpeg:https://metodoyuenjosepalomo.com/wp-content/uploads/2022/10/mericuad.jpg
END:VEVENT
BEGIN:VEVENT
DTSTART;TZID=America/Chicago:20240306T200000
DTEND;TZID=America/Chicago:20240306T220000
DTSTAMP:20260417T173907
CREATED:20240207T000931Z
LAST-MODIFIED:20240301T123056Z
UID:7866-1709755200-1709762400@metodoyuenjosepalomo.com
SUMMARY:Mascotas
DESCRIPTION:CUÁNDO: \n\n\n\n\n\n\n\n \n\n\n\n\n\n\n\n\n\n\n\n\n\n\n\n\nContáctanos
URL:https://metodoyuenjosepalomo.com/curso-taller-terapia/mascotas/
CATEGORIES:MasterClass
ATTACH;FMTTYPE=image/jpeg:https://metodoyuenjosepalomo.com/wp-content/uploads/2022/06/Mascotas-para-web.jpg
END:VEVENT
END:VCALENDAR