BEGIN:VCALENDAR
VERSION:2.0
PRODID:-//José Palomo - ECPv6.15.14//NONSGML v1.0//EN
CALSCALE:GREGORIAN
METHOD:PUBLISH
X-WR-CALNAME:José Palomo
X-ORIGINAL-URL:https://metodoyuenjosepalomo.com
X-WR-CALDESC:Eventos para José Palomo
REFRESH-INTERVAL;VALUE=DURATION:PT1H
X-Robots-Tag:noindex
X-PUBLISHED-TTL:PT1H
BEGIN:VTIMEZONE
TZID:America/Chicago
BEGIN:DAYLIGHT
TZOFFSETFROM:-0600
TZOFFSETTO:-0500
TZNAME:CDT
DTSTART:20230312T080000
END:DAYLIGHT
BEGIN:STANDARD
TZOFFSETFROM:-0500
TZOFFSETTO:-0600
TZNAME:CST
DTSTART:20231105T070000
END:STANDARD
BEGIN:DAYLIGHT
TZOFFSETFROM:-0600
TZOFFSETTO:-0500
TZNAME:CDT
DTSTART:20240310T080000
END:DAYLIGHT
BEGIN:STANDARD
TZOFFSETFROM:-0500
TZOFFSETTO:-0600
TZNAME:CST
DTSTART:20241103T070000
END:STANDARD
BEGIN:DAYLIGHT
TZOFFSETFROM:-0600
TZOFFSETTO:-0500
TZNAME:CDT
DTSTART:20250309T080000
END:DAYLIGHT
BEGIN:STANDARD
TZOFFSETFROM:-0500
TZOFFSETTO:-0600
TZNAME:CST
DTSTART:20251102T070000
END:STANDARD
END:VTIMEZONE
BEGIN:VEVENT
DTSTART;TZID=America/Chicago:20240429T190000
DTEND;TZID=America/Chicago:20240501T210000
DTSTAMP:20260419T093052
CREATED:20240411T001429Z
LAST-MODIFIED:20240424T113022Z
UID:8362-1714417200-1714597200@metodoyuenjosepalomo.com
SUMMARY:Energía Pránica Nivel II
DESCRIPTION:CUÁNDO: \n\n\n\n\n\n\n\n\n\n\n\n\n\n\nContinuación de la Energía de colores\, explorando las emociones de cada chakra y su estructura interna. Cortando vínculos negativos\, obteniendo energización y protección mental\, por ende la salud física. \n\n\n\n\n\nContáctanos
URL:https://metodoyuenjosepalomo.com/curso-taller-terapia/energia-pranica-nivel-ii/
CATEGORIES:Cursos,MasterClass
ATTACH;FMTTYPE=image/jpeg:https://metodoyuenjosepalomo.com/wp-content/uploads/2024/04/C703C2ED-8918-469F-B6FB-2AF6B8424161.jpeg
END:VEVENT
BEGIN:VEVENT
DTSTART;TZID=America/Chicago:20240506T200000
DTEND;TZID=America/Chicago:20240508T220000
DTSTAMP:20260419T093052
CREATED:20240410T235137Z
LAST-MODIFIED:20240424T113706Z
UID:8331-1715025600-1715205600@metodoyuenjosepalomo.com
SUMMARY:Energía Pránica Nivel III
DESCRIPTION:CUÁNDO: \n\n\n\n\n\n\n\n\n\n\n\n\n\n\nAprenderemos a utilizar los cristales como extensiones de nuestras manos y denuestra energía. Los cristales de cuarzo son seres vivos y cuando trabajamos con elloshay que mostrarles respeto y cuidado.Toman la vibración de la energía y la amplifican\,multiplicando los efectos. \n\n\n\n\n\nContáctanos
URL:https://metodoyuenjosepalomo.com/curso-taller-terapia/energia-pranica-nivel-iii/
CATEGORIES:Cursos
ATTACH;FMTTYPE=image/jpeg:https://metodoyuenjosepalomo.com/wp-content/uploads/2024/04/58108F86-A893-41F9-B251-1C3EB305EFDD.jpeg
END:VEVENT
BEGIN:VEVENT
DTSTART;TZID=America/Chicago:20240513T200000
DTEND;TZID=America/Chicago:20240513T220000
DTSTAMP:20260419T093052
CREATED:20240518T131020Z
LAST-MODIFIED:20240518T131022Z
UID:8399-1715630400-1715637600@metodoyuenjosepalomo.com
SUMMARY:Master Class Cáncer
DESCRIPTION:CUÁNDO: \n\n\n\n\n\n\n\n\n\n\n\n\n\n\nAprenderemos a utilizar el Método Yuen para ayudarnos con los Sintomas del Cáncer. \n\n\n\nMejorar el bienestar desde adentro para que pueda ser distribuido a todo nuestro cuerpo\, mejorar nuestro sentir es el primer paso. \n\n\n\n\n\nContáctanos
URL:https://metodoyuenjosepalomo.com/curso-taller-terapia/master-class-cancer/
CATEGORIES:Cursos
ATTACH;FMTTYPE=image/jpeg:https://metodoyuenjosepalomo.com/wp-content/uploads/2024/04/58108F86-A893-41F9-B251-1C3EB305EFDD.jpeg
END:VEVENT
BEGIN:VEVENT
DTSTART;TZID=America/Chicago:20240514T200000
DTEND;TZID=America/Chicago:20240514T220000
DTSTAMP:20260419T093052
CREATED:20240518T131135Z
LAST-MODIFIED:20240521T163912Z
UID:8404-1715716800-1715724000@metodoyuenjosepalomo.com
SUMMARY:Master Class Fertilidad
DESCRIPTION:CUÁNDO: \n\n\n\n\n\n\n\n\n\n\n\n\n\n\nAprenderemos a utilizar el Método Yuen para ayudarnos con nuestro nivel de fertilidad. \n\n\n\nMejorar el bienestar desde adentro para que pueda ser distribuido a todo nuestro cuerpo\, mejorar nuestro sentir es el primer paso. \n\n\n\n\n\nContáctanos
URL:https://metodoyuenjosepalomo.com/curso-taller-terapia/master-class-fertilidad/
CATEGORIES:MasterClass
ATTACH;FMTTYPE=image/jpeg:https://metodoyuenjosepalomo.com/wp-content/uploads/2022/09/salud-para-web.jpg
END:VEVENT
BEGIN:VEVENT
DTSTART;TZID=America/Chicago:20240515T200000
DTEND;TZID=America/Chicago:20240515T220000
DTSTAMP:20260419T093052
CREATED:20240518T131246Z
LAST-MODIFIED:20240521T163752Z
UID:8406-1715803200-1715810400@metodoyuenjosepalomo.com
SUMMARY:Master Class Insomnio
DESCRIPTION:CUÁNDO: \n\n\n\n\n\n\n\n\n\n\n\n\n\n\nAprenderemos a utilizar el Método Yuen para ayudarnos con los Sintomas del Insomnio. \n\n\n\nMejorar el bienestar desde adentro para que pueda ser distribuido a todo nuestro cuerpo\, mejorar nuestro sentir es el primer paso para recuperar el sueño. \n\n\n\n\n\nContáctanos
URL:https://metodoyuenjosepalomo.com/curso-taller-terapia/master-class-insomnio/
CATEGORIES:MasterClass
ATTACH;FMTTYPE=image/jpeg:https://metodoyuenjosepalomo.com/wp-content/uploads/2022/09/salud-para-web.jpg
END:VEVENT
BEGIN:VEVENT
DTSTART;TZID=America/Chicago:20240520T200000
DTEND;TZID=America/Chicago:20240522T220000
DTSTAMP:20260419T093052
CREATED:20240518T031604Z
LAST-MODIFIED:20240527T105530Z
UID:8383-1716235200-1716415200@metodoyuenjosepalomo.com
SUMMARY:Método Yuen Nivel 4 | Relaciones
DESCRIPTION:CUÁNDO: \n\n\n\n\n\n\n\n\n\n\n\n\n\n\nEn este módulo se aprende a cómo mejorar y fortalecer relaciones de todo tipo\, contigo mismo\, con tu familia\, en el trabajo o negocio\, con tu pareja\, socialmente e incluso con otros seres vivos. \n\n\n\n\n\nContáctanos
URL:https://metodoyuenjosepalomo.com/curso-taller-terapia/metodo-yuen-nivel-4-relaciones/
CATEGORIES:Cursos
ATTACH;FMTTYPE=image/jpeg:https://metodoyuenjosepalomo.com/wp-content/uploads/2024/05/MY-nivel-4-Relaciones.jpeg
END:VEVENT
BEGIN:VEVENT
DTSTART;TZID=America/Chicago:20240527T200000
DTEND;TZID=America/Chicago:20240529T220000
DTSTAMP:20260419T093052
CREATED:20240518T130545Z
LAST-MODIFIED:20240527T105618Z
UID:8398-1716840000-1717020000@metodoyuenjosepalomo.com
SUMMARY:Método Yuen Nivel 5 | Menos Edad
DESCRIPTION:CUÁNDO: \n\n\n\n\n\n\n\n\n\n\n\n\n\n\n\nEn este módulo se adentra la técnica en lo estético\, rejuvenecer\, bajar de peso\, lucir mejor. Pero lo más importante y que da mejor resultado; a sentirte más joven\, porque como te sientes por dentro te ves por fuera. El rejuvenecimiento no sólo es la apariencia\, también es menos enfermedad\, menos limitaciones\, mayor energía y vigor y un mejor ánimo y autoestima. \n\n\n\n\n \n\n\n\n\n\nContáctanos
URL:https://metodoyuenjosepalomo.com/curso-taller-terapia/metodo-yuen-nivel-5-menos-edad/
CATEGORIES:Cursos
ATTACH;FMTTYPE=image/jpeg:https://metodoyuenjosepalomo.com/wp-content/uploads/2021/09/WhatsApp-Image-2021-09-20-at-8.39.42-PM.jpeg
END:VEVENT
BEGIN:VEVENT
DTSTART;TZID=America/Chicago:20240603T200000
DTEND;TZID=America/Chicago:20240605T220000
DTSTAMP:20260419T093052
CREATED:20240518T132230Z
LAST-MODIFIED:20240527T105710Z
UID:8408-1717444800-1717624800@metodoyuenjosepalomo.com
SUMMARY:Método Yuen Nivel VI | Finanzas y Dinero
DESCRIPTION:CUÁNDO: \n\n\n\n\n\n\n\n\n\n\n\n\n\n\n\nEl Dinero es energía\, y como energía puede ser manejado. Todos somos abundantes por naturaleza\, pero muchas veces nuestra mente\, energía\, karmas y otros bloqueos nos limitan o impiden que ejerzamos ese derecho que es de todos. \n\n\n\nAprenderemos aparte de mejorar la energía del dinero\, también a mejorar los negocios\, para que estos traigan en consecuencia una mayor abundancia. \n\n\n\n\n \n\n\n\n\n\nContáctanos
URL:https://metodoyuenjosepalomo.com/curso-taller-terapia/metodo-yuen-nivel-vi-finanzas-y-dinero/
CATEGORIES:Cursos
ATTACH;FMTTYPE=image/jpeg:https://metodoyuenjosepalomo.com/wp-content/uploads/2024/05/MY-Nivel-6-Finanzas-y-Dinero.jpeg
END:VEVENT
BEGIN:VEVENT
DTSTART;TZID=America/Chicago:20240608T100000
DTEND;TZID=America/Chicago:20240608T120000
DTSTAMP:20260419T093052
CREATED:20240527T112126Z
LAST-MODIFIED:20240606T090834Z
UID:8438-1717840800-1717848000@metodoyuenjosepalomo.com
SUMMARY:Método Yuen para Niños
DESCRIPTION:CUÁNDO: \n\n\n\n\n\n\n\n\n\n\n\n\n\n\n\nUna adaptación para los pequeños de la casa que ya saben leer. En este curso explorarán con dinamismo y diversión el movimiento de la energía. Aprendiendo a realizar fortalecimientos de la imaginación a la realidad. Una introducción al mundo mágico de la energía. \n\n\n\n\n \n\n\n\n\n\nContáctanos
URL:https://metodoyuenjosepalomo.com/curso-taller-terapia/metodo-yuen-para-ninos/
CATEGORIES:Cursos
ATTACH;FMTTYPE=image/jpeg:https://metodoyuenjosepalomo.com/wp-content/uploads/2024/06/MY-Ninos-1.jpg
END:VEVENT
BEGIN:VEVENT
DTSTART;TZID=America/Chicago:20240610T200000
DTEND;TZID=America/Chicago:20240612T220000
DTSTAMP:20260419T093052
CREATED:20240518T132358Z
LAST-MODIFIED:20240527T105900Z
UID:8411-1718049600-1718229600@metodoyuenjosepalomo.com
SUMMARY:Taller de Avanzados
DESCRIPTION:CUÁNDO: \n\n\n\n\n\n\n\n\n\n\n\n\n\n\n\nEn éste taller de 3 días se tratarán los casos de los alumnos avanzados y se resolverán toda clase de dudas y preguntas desde la experiencia e intuición del Ingeniero José Palomo\, utilizando Método Yuen con sus especialidades y Energía Pránica. \n\n\n\nApoyado con la participación de los mismos alumnos. \n\n\n\n\n \n\n\n\n\n\nContáctanos
URL:https://metodoyuenjosepalomo.com/curso-taller-terapia/taller-de-avanzados/
CATEGORIES:Talleres
ATTACH;FMTTYPE=image/jpeg:https://metodoyuenjosepalomo.com/wp-content/uploads/2023/03/taller-avanzados-ok.jpg
END:VEVENT
BEGIN:VEVENT
DTSTART;TZID=America/Chicago:20240615T100000
DTEND;TZID=America/Chicago:20240615T120000
DTSTAMP:20260419T093052
CREATED:20240527T115056Z
LAST-MODIFIED:20240606T090802Z
UID:8440-1718445600-1718452800@metodoyuenjosepalomo.com
SUMMARY:Método Yuen para Niños
DESCRIPTION:CUÁNDO: \n\n\n\n\n\n\n\n\n\n\n\n\n\n\n\nUna adaptación para los pequeños de la casa que ya saben leer. En este curso explorarán con dinamismo y diversión el movimiento de la energía. Aprendiendo a realizar fortalecimientos de la imaginación a la realidad. Una introducción al mundo mágico de la energía. \n\n\n\n\n \n\n\n\n\n\nContáctanos
URL:https://metodoyuenjosepalomo.com/curso-taller-terapia/metodo-yuen-para-ninos-2/
CATEGORIES:Cursos
ATTACH;FMTTYPE=image/jpeg:https://metodoyuenjosepalomo.com/wp-content/uploads/2024/06/MY-Ninos.jpg
END:VEVENT
BEGIN:VEVENT
DTSTART;TZID=America/Chicago:20240617T200000
DTEND;TZID=America/Chicago:20240619T220000
DTSTAMP:20260419T093052
CREATED:20240518T132600Z
LAST-MODIFIED:20240606T090448Z
UID:8413-1718654400-1718834400@metodoyuenjosepalomo.com
SUMMARY:Taller de Intuición
DESCRIPTION:CUÁNDO: \n\n\n\n\n\n\n\n\n\n\n\n\n\n\n\nEn un taller se trabaja\, en el taller de intuición trabajamos para despertar eso que a todos los que estamos en el tema energético nos emociona\, la Intuición\, se realizan ejercicios\, Fortalecimientos y programas\, para poder sentir aún más la energía\, ver con mayor claridad y sobre todo\, confiar en que podemos lograrlo. la intuición SÍ es un Don\, y todos la tenemos en nuestro interior. \n\n\n\n\n \n\n\n\n\n\nContáctanos
URL:https://metodoyuenjosepalomo.com/curso-taller-terapia/taller-de-intuicion-3/
CATEGORIES:Cursos
ATTACH;FMTTYPE=image/jpeg:https://metodoyuenjosepalomo.com/wp-content/uploads/2021/06/Intuicion-sin-Fechas.jpeg
END:VEVENT
BEGIN:VEVENT
DTSTART;TZID=America/Chicago:20240624T200000
DTEND;TZID=America/Chicago:20240626T220000
DTSTAMP:20260419T093052
CREATED:20240620T115910Z
LAST-MODIFIED:20240620T120149Z
UID:8528-1719259200-1719439200@metodoyuenjosepalomo.com
SUMMARY:Taller de Triadas
DESCRIPTION:Cuando: \n\n\n\n\n\n\n\n\n\nAl realizar fortalecimientos en tríadas se potencializa el resultado. En este taller veremos desde tríadas sencillas hasta muy avanzadas para diferentes temas como familia\, perder peso\, rejuvenecer\, dinero y finanzas ente otras\, además aprenderemos a crear las nuestras\, asegurando resultados de forma inmediata. \n\n\n\n\n\n\n\nContáctanos
URL:https://metodoyuenjosepalomo.com/curso-taller-terapia/taller-de-triadas-2/
CATEGORIES:Talleres
ATTACH;FMTTYPE=image/jpeg:https://metodoyuenjosepalomo.com/wp-content/uploads/2021/04/WhatsApp-Image-2021-04-23-at-11.10.13-AM-2.jpeg
END:VEVENT
BEGIN:VEVENT
DTSTART;TZID=America/Chicago:20240701T200000
DTEND;TZID=America/Chicago:20240703T223000
DTSTAMP:20260419T093052
CREATED:20240606T092256Z
LAST-MODIFIED:20240606T093826Z
UID:8494-1719864000-1720045800@metodoyuenjosepalomo.com
SUMMARY:Taller Entidades Enérgeticas
DESCRIPTION:CUÁNDO: \n\n\n\n\n\n\n\n\n\n\n\n\nHay entidades energéticas de todo tipo\, y de manera lamentable pocas personas realmente profesionales en el tema. En este curso creado por un servidor\, nos adentramos aún más allá de cómo utilizar Método Yuen\, para la solución de diferentes problemas con energías de baja frecuencia\, donde comparto mis experiencias y descubrimientos\, ahorrándoles el camino que a mí me tomó años llegar. \n\n\n\n\n\nContáctanos
URL:https://metodoyuenjosepalomo.com/curso-taller-terapia/taller-de-entidades-energeticas/
CATEGORIES:Talleres
ATTACH;FMTTYPE=image/jpeg:https://metodoyuenjosepalomo.com/wp-content/uploads/2021/06/Entidades-sin-fecha.jpeg
END:VEVENT
BEGIN:VEVENT
DTSTART;TZID=America/Chicago:20240729T200000
DTEND;TZID=America/Chicago:20240731T220000
DTSTAMP:20260419T093052
CREATED:20240606T092849Z
LAST-MODIFIED:20240620T114921Z
UID:8498-1722283200-1722463200@metodoyuenjosepalomo.com
SUMMARY:Taller del Cerebro - Módulo I
DESCRIPTION:Cuando: \n\n\n\n\n\n\n\n\n\nOportunidad de exponer en detalle los distintos componentes del cerebro y comprender su comportamiento. Desde entender cómo el cerebro se comporta hasta explorar su capacidad de influir directamente con el cuerpo. \n\n\n\nAbordaremos cómo «hackear»de manera positiva  todo desde la perspectiva del Método Yuen. \n\n\n\n\n\n\n\n\n\n\n\n\n\n\n\nContáctanos
URL:https://metodoyuenjosepalomo.com/curso-taller-terapia/taller-del-cerebro-nivel-i/
CATEGORIES:Talleres
ATTACH;FMTTYPE=image/jpeg:https://metodoyuenjosepalomo.com/wp-content/uploads/2023/08/Cerebro-cuadrado.jpg
END:VEVENT
BEGIN:VEVENT
DTSTART;TZID=America/Chicago:20240805T200000
DTEND;TZID=America/Chicago:20240807T220000
DTSTAMP:20260419T093052
CREATED:20240606T093001Z
LAST-MODIFIED:20240620T114800Z
UID:8500-1722888000-1723068000@metodoyuenjosepalomo.com
SUMMARY:Taller del Cerebro - Módulo II
DESCRIPTION:Cuando: \n\n\n\n\n\n\n\n\n\nOportunidad de exponer en detalle los distintos componentes del cerebro y comprender su comportamiento. Desde entender cómo el cerebro se comporta hasta explorar su capacidad de influir directamente con el cuerpo. \n\n\n\nAbordaremos cómo «hackear»de manera positiva  todo desde la perspectiva del Método Yuen. \n\n\n\n\n\n\n\n\n\n\n\n\n\n\n\nContáctanos
URL:https://metodoyuenjosepalomo.com/curso-taller-terapia/taller-del-cerebro-modulo-ii/
CATEGORIES:Talleres
ATTACH;FMTTYPE=image/jpeg:https://metodoyuenjosepalomo.com/wp-content/uploads/2023/08/Cerebro-cuadrado.jpg
END:VEVENT
BEGIN:VEVENT
DTSTART;TZID=America/Chicago:20240812T200000
DTEND;TZID=America/Chicago:20240812T220000
DTSTAMP:20260419T093052
CREATED:20240809T142030Z
LAST-MODIFIED:20240809T142034Z
UID:8544-1723492800-1723500000@metodoyuenjosepalomo.com
SUMMARY:Master Class Diabetes
DESCRIPTION:CUÁNDO: \n\n\n\n\n\n\n\n\n\n\n\n\n\n\nAprenderemos a utilizar el Método Yuen para ayudarnos con combatir la diabetes. \n\n\n\nMejorar el bienestar desde adentro para que pueda ser distribuido a todo nuestro cuerpo\, mejorar nuestro sentir es el primer paso. \n\n\n\n\n\nContáctanos
URL:https://metodoyuenjosepalomo.com/curso-taller-terapia/master-class-diabetes/
CATEGORIES:MasterClass
ATTACH;FMTTYPE=image/jpeg:https://metodoyuenjosepalomo.com/wp-content/uploads/2023/03/MasterDiabetesCuadrado.jpg
END:VEVENT
BEGIN:VEVENT
DTSTART;TZID=America/Chicago:20240813T200000
DTEND;TZID=America/Chicago:20240813T220000
DTSTAMP:20260419T093052
CREATED:20240809T143532Z
LAST-MODIFIED:20240809T143535Z
UID:8555-1723579200-1723586400@metodoyuenjosepalomo.com
SUMMARY:Master Class Meridianos Energéticos
DESCRIPTION:CUÁNDO: \n\n\n\n\n\n\n\n\n\n\n\n\n\n\nAprenderemos a utilizar el Método Yuen para ayudarnos a fortalecernos mejorando nuestros Meridianos Energéticos. \n\n\n\nMejorar el bienestar desde adentro para que pueda ser distribuido a todo nuestro cuerpo\, mejorar nuestro sentir es el primer paso. \n\n\n\n\n\nContáctanos
URL:https://metodoyuenjosepalomo.com/curso-taller-terapia/master-class-meridianos-energeticos/
CATEGORIES:MasterClass
ATTACH;FMTTYPE=image/jpeg:https://metodoyuenjosepalomo.com/wp-content/uploads/2022/10/mericuad.jpg
END:VEVENT
BEGIN:VEVENT
DTSTART;TZID=America/Chicago:20240814T200000
DTEND;TZID=America/Chicago:20240814T220000
DTSTAMP:20260419T093052
CREATED:20240809T143808Z
LAST-MODIFIED:20240809T143812Z
UID:8557-1723665600-1723672800@metodoyuenjosepalomo.com
SUMMARY:Master Class - Liberate de Adicciones
DESCRIPTION:CUÁNDO: \n\n\n\n\n\n\n\n\n\n\n\n\n\n\nAprenderemos a utilizar el Método Yuen para ayudarnos a liberarnos de las adicciones. \n\n\n\nMejorar el bienestar desde adentro para que pueda ser distribuido a todo nuestro cuerpo\, mejorar nuestro sentir es el primer paso. \n\n\n\n\n\nContáctanos
URL:https://metodoyuenjosepalomo.com/curso-taller-terapia/master-class-liberate-de-adicciones/
CATEGORIES:MasterClass
ATTACH;FMTTYPE=image/jpeg:https://metodoyuenjosepalomo.com/wp-content/uploads/2022/06/adicciones-para-web.jpg
END:VEVENT
BEGIN:VEVENT
DTSTART;TZID=America/Chicago:20240819T200000
DTEND;TZID=America/Chicago:20240821T220000
DTSTAMP:20260419T093052
CREATED:20240809T144011Z
LAST-MODIFIED:20240809T150020Z
UID:8559-1724097600-1724277600@metodoyuenjosepalomo.com
SUMMARY:Método Yuen Módulo 4 | Relaciones
DESCRIPTION:CUÁNDO: \n\n\n\n\n\n\n\n\n\n\n\n\n\n\nEn este módulo se aprende a cómo mejorar y fortalecer relaciones de todo tipo\, contigo mismo\, con tu familia\, en el trabajo o negocio\, con tu pareja\, socialmente e incluso con otros seres vivos. \n\n\n\n\n\nContáctanos
URL:https://metodoyuenjosepalomo.com/curso-taller-terapia/metodo-yuen-nivel-4-relaciones-2/
CATEGORIES:Cursos
ATTACH;FMTTYPE=image/jpeg:https://metodoyuenjosepalomo.com/wp-content/uploads/2024/05/MY-nivel-4-Relaciones.jpeg
END:VEVENT
BEGIN:VEVENT
DTSTART;TZID=America/Chicago:20240826T200000
DTEND;TZID=America/Chicago:20240828T220000
DTSTAMP:20260419T093052
CREATED:20240809T145817Z
LAST-MODIFIED:20240809T145945Z
UID:8577-1724702400-1724882400@metodoyuenjosepalomo.com
SUMMARY:Método Yuen Módulo 5 | Menos Edad
DESCRIPTION:CUÁNDO: \n\n\n\n\n\n\n\n\n\n\n\n\n\n\n\nEn este módulo se adentra la técnica en lo estético\, rejuvenecer\, bajar de peso\, lucir mejor. Pero lo más importante y que da mejor resultado; a sentirte más joven\, porque como te sientes por dentro te ves por fuera. El rejuvenecimiento no sólo es la apariencia\, también es menos enfermedad\, menos limitaciones\, mayor energía y vigor y un mejor ánimo y autoestima. \n\n\n\n\n \n\n\n\n\n\nContáctanos
URL:https://metodoyuenjosepalomo.com/curso-taller-terapia/metodo-yuen-nivel-5-menos-edad-2/
CATEGORIES:Cursos
ATTACH;FMTTYPE=image/jpeg:https://metodoyuenjosepalomo.com/wp-content/uploads/2021/09/WhatsApp-Image-2021-09-20-at-8.39.42-PM.jpeg
END:VEVENT
BEGIN:VEVENT
DTSTART;TZID=America/Chicago:20240902T200000
DTEND;TZID=America/Chicago:20240904T220000
DTSTAMP:20260419T093052
CREATED:20240809T150230Z
LAST-MODIFIED:20240809T150250Z
UID:8582-1725307200-1725487200@metodoyuenjosepalomo.com
SUMMARY:Método Yuen Módulo VI | Finanzas y Dinero
DESCRIPTION:CUÁNDO: \n\n\n\n\n\n\n\n\n\n\n\n\n\n\n\nEl Dinero es energía\, y como energía puede ser manejado. Todos somos abundantes por naturaleza\, pero muchas veces nuestra mente\, energía\, karmas y otros bloqueos nos limitan o impiden que ejerzamos ese derecho que es de todos. \n\n\n\nAprenderemos aparte de mejorar la energía del dinero\, también a mejorar los negocios\, para que estos traigan en consecuencia una mayor abundancia. \n\n\n\n\n \n\n\n\n\n\nContáctanos
URL:https://metodoyuenjosepalomo.com/curso-taller-terapia/metodo-yuen-modulo-vi-finanzas-y-dinero/
CATEGORIES:Cursos
ATTACH;FMTTYPE=image/jpeg:https://metodoyuenjosepalomo.com/wp-content/uploads/2024/05/MY-Nivel-6-Finanzas-y-Dinero.jpeg
END:VEVENT
BEGIN:VEVENT
DTSTART;TZID=America/Chicago:20240909T200000
DTEND;TZID=America/Chicago:20240909T220000
DTSTAMP:20260419T093052
CREATED:20240809T150629Z
LAST-MODIFIED:20240809T150632Z
UID:8584-1725912000-1725919200@metodoyuenjosepalomo.com
SUMMARY:Master Class - Eliminando el Insomnio
DESCRIPTION:CUÁNDO: \n\n\n\n\n\n\n\n\n\n\n\n\n\n\nAprenderemos a utilizar el Método Yuen para ayudarnos con los Sintomas del Insomnio. \n\n\n\nMejorar el bienestar desde adentro para que pueda ser distribuido a todo nuestro cuerpo\, mejorar nuestro sentir es el primer paso para recuperar el sueño. \n\n\n\n\n\nContáctanos
URL:https://metodoyuenjosepalomo.com/curso-taller-terapia/master-class-eliminando-el-insomnio/
CATEGORIES:MasterClass
ATTACH;FMTTYPE=image/jpeg:https://metodoyuenjosepalomo.com/wp-content/uploads/2023/12/8FBE5EAB-0A23-4158-968E-390DB165FBBD.jpeg
END:VEVENT
BEGIN:VEVENT
DTSTART;TZID=America/Chicago:20240910T200000
DTEND;TZID=America/Chicago:20240910T220000
DTSTAMP:20260419T093052
CREATED:20240809T150837Z
LAST-MODIFIED:20240809T150841Z
UID:8586-1725998400-1726005600@metodoyuenjosepalomo.com
SUMMARY:Master Class Cáncer
DESCRIPTION:CUÁNDO: \n\n\n\n\n\n\n\n\n\n\n\n\n\n\nAprenderemos a utilizar el Método Yuen para ayudarnos con los Sintomas del Cáncer. \n\n\n\nMejorar el bienestar desde adentro para que pueda ser distribuido a todo nuestro cuerpo\, mejorar nuestro sentir es el primer paso. \n\n\n\n\n\nContáctanos
URL:https://metodoyuenjosepalomo.com/curso-taller-terapia/master-class-cancer-2/
CATEGORIES:Cursos
ATTACH;FMTTYPE=image/jpeg:https://metodoyuenjosepalomo.com/wp-content/uploads/2022/06/Cancer-para-web.jpg
END:VEVENT
BEGIN:VEVENT
DTSTART;TZID=America/Chicago:20240911T200000
DTEND;TZID=America/Chicago:20240911T220000
DTSTAMP:20260419T093052
CREATED:20240809T151044Z
LAST-MODIFIED:20240809T151047Z
UID:8588-1726084800-1726092000@metodoyuenjosepalomo.com
SUMMARY:Master Class Fertilidad
DESCRIPTION:CUÁNDO: \n\n\n\n\n\n\n\n\n\n\n\n\n\n\nAprenderemos a utilizar el Método Yuen para ayudarnos con nuestro nivel de fertilidad. \n\n\n\nMejorar el bienestar desde adentro para que pueda ser distribuido a todo nuestro cuerpo\, mejorar nuestro sentir es el primer paso. \n\n\n\n\n\nContáctanos
URL:https://metodoyuenjosepalomo.com/curso-taller-terapia/master-class-fertilidad-2/
CATEGORIES:MasterClass
ATTACH;FMTTYPE=image/jpeg:https://metodoyuenjosepalomo.com/wp-content/uploads/2022/06/fertilidad-para-web.jpg
END:VEVENT
BEGIN:VEVENT
DTSTART;TZID=America/Chicago:20240916T200000
DTEND;TZID=America/Chicago:20240918T220000
DTSTAMP:20260419T093052
CREATED:20240809T152636Z
LAST-MODIFIED:20240809T152640Z
UID:8504-1726516800-1726696800@metodoyuenjosepalomo.com
SUMMARY:Taller de Intuición
DESCRIPTION:CUÁNDO: \n\n\n\n\n\n\n\n\n\n\n\n\n\n\n\nEn un taller se trabaja\, en el taller de intuición trabajamos para despertar eso que a todos los que estamos en el tema energético nos emociona\, la Intuición\, se realizan ejercicios\, Fortalecimientos y programas\, para poder sentir aún más la energía\, ver con mayor claridad y sobre todo\, confiar en que podemos lograrlo. la intuición SÍ es un Don\, y todos la tenemos en nuestro interior. \n\n\n\n\n \n\n\n\n\n\nContáctanos
URL:https://metodoyuenjosepalomo.com/curso-taller-terapia/taller-de-intuicion-4/
CATEGORIES:Talleres
ATTACH;FMTTYPE=image/jpeg:https://metodoyuenjosepalomo.com/wp-content/uploads/2021/06/Intuicion-sin-Fechas.jpeg
END:VEVENT
BEGIN:VEVENT
DTSTART;TZID=America/Chicago:20240923T200000
DTEND;TZID=America/Chicago:20240925T220000
DTSTAMP:20260419T093052
CREATED:20240809T152955Z
LAST-MODIFIED:20240809T152959Z
UID:8593-1727121600-1727301600@metodoyuenjosepalomo.com
SUMMARY:Taller de Triadas
DESCRIPTION:Cuando: \n\n\n\n\n\n\n\n\n\nAl realizar fortalecimientos en tríadas se potencializa el resultado. En este taller veremos desde tríadas sencillas hasta muy avanzadas para diferentes temas como familia\, perder peso\, rejuvenecer\, dinero y finanzas ente otras\, además aprenderemos a crear las nuestras\, asegurando resultados de forma inmediata. \n\n\n\n\n\n\n\nContáctanos
URL:https://metodoyuenjosepalomo.com/curso-taller-terapia/taller-de-triadas-4/
CATEGORIES:Talleres
ATTACH;FMTTYPE=image/jpeg:https://metodoyuenjosepalomo.com/wp-content/uploads/2021/04/WhatsApp-Image-2021-04-23-at-11.10.13-AM-2.jpeg
END:VEVENT
BEGIN:VEVENT
DTSTART;TZID=America/Chicago:20240930T200000
DTEND;TZID=America/Chicago:20241002T223000
DTSTAMP:20260419T093052
CREATED:20240809T153448Z
LAST-MODIFIED:20240809T153452Z
UID:8595-1727726400-1727908200@metodoyuenjosepalomo.com
SUMMARY:Taller Entidades Enérgeticas
DESCRIPTION:CUÁNDO: \n\n\n\n\n\n\n\n\n\n\n\n\nHay entidades energéticas de todo tipo\, y de manera lamentable pocas personas realmente profesionales en el tema. En este curso creado por un servidor\, nos adentramos aún más allá de cómo utilizar Método Yuen\, para la solución de diferentes problemas con energías de baja frecuencia\, donde comparto mis experiencias y descubrimientos\, ahorrándoles el camino que a mí me tomó años llegar. \n\n\n\n\n\nContáctanos
URL:https://metodoyuenjosepalomo.com/curso-taller-terapia/taller-entidades-energeticas/
CATEGORIES:Talleres
ATTACH;FMTTYPE=image/jpeg:https://metodoyuenjosepalomo.com/wp-content/uploads/2021/06/Entidades-sin-fecha.jpeg
END:VEVENT
BEGIN:VEVENT
DTSTART;TZID=America/Chicago:20241007T200000
DTEND;TZID=America/Chicago:20241009T223000
DTSTAMP:20260419T093052
CREATED:20240606T091502Z
LAST-MODIFIED:20240927T201059Z
UID:8488-1728331200-1728513000@metodoyuenjosepalomo.com
SUMMARY:Método Yuen - Nivel I
DESCRIPTION:CUÁNDO: \n\n\n\n\n\n\n\n\n\nEn este conjunto de módulos 1 2 y 3 se aprenden las bases de Método\, así como la instrucción completa para realizar fortalecimientos y mejorar o solucionar problemas del orden físico\, mental y emocional\, tales como; Dolores de todo tipo\, enfermedades cardiovasculares\, problemas de columna\, diabetes\, quistes\, miomas y mucho mas. \n\n\n\nEn el ambiente mental a reprogramar el pensamiento\, eliminar creencias limitantes\, eliminación de traumas\, en lo emocional: Estrés\, Depresión\, Ansiedad\, Miedo\, Enojo y más te volverás un terapeuta capacitado para tratar a las personas y mejorarlas en todos los aspectos. \n\n\n\n\n\n\n\nContáctanos
URL:https://metodoyuenjosepalomo.com/curso-taller-terapia/metodo-yuen-nivel-i-3/
CATEGORIES:Cursos
ATTACH;FMTTYPE=image/jpeg:https://metodoyuenjosepalomo.com/wp-content/uploads/2024/02/Metodo-Yuen-Nivel-IIIyIII.jpeg
END:VEVENT
BEGIN:VEVENT
DTSTART;TZID=America/Chicago:20241007T200000
DTEND;TZID=America/Chicago:20241023T223000
DTSTAMP:20260419T093052
CREATED:20240809T144552Z
LAST-MODIFIED:20240927T152708Z
UID:8561-1728331200-1729722600@metodoyuenjosepalomo.com
SUMMARY:Método Yuen - Nivel I
DESCRIPTION:CUÁNDO: \n\n\n\n\n\n\n\n\n\nEn este conjunto de módulos 1 2 y 3 se aprenden las bases de Método\, así como la instrucción completa para realizar fortalecimientos y mejorar o solucionar problemas del orden físico\, mental y emocional\, tales como; Dolores de todo tipo\, enfermedades cardiovasculares\, problemas de columna\, diabetes\, quistes\, miomas y mucho mas. \n\n\n\nEn el ambiente mental a reprogramar el pensamiento\, eliminar creencias limitantes\, eliminación de traumas\, en lo emocional: Estrés\, Depresión\, Ansiedad\, Miedo\, Enojo y más te volverás un terapeuta capacitado para tratar a las personas y mejorarlas en todos los aspectos. \n\n\n\n\n\n\n\nContáctanos
URL:https://metodoyuenjosepalomo.com/curso-taller-terapia/metodo-yuen-nivel-i-4/
CATEGORIES:Cursos
ATTACH;FMTTYPE=image/jpeg:https://metodoyuenjosepalomo.com/wp-content/uploads/2024/02/Metodo-Yuen-Nivel-IIIyIII.jpeg
END:VEVENT
END:VCALENDAR